BEGIN:VCALENDAR
VERSION:2.0
PRODID:-//hacksw/handcal//NONSGML v1.0//EN
BEGIN:VEVENT
DTSTART:20240125T173000
DTEND:20240125T193000
LOCATION:Trib Café \n14, Rue Pierre Semard \n38000 GRENOBLE
ORGANIZER;CN=GEM Alumni TEAM:MAILTO:
SUMMARY:Afterwork spécial Career Fair 2024 #2 - GEM Alumni
DESCRIPTION:Rencontrez les autres diplômés présents au Career Fair dans un cadre convivial en mode afterwork, histoire de décompresser après votre journée !\nPour les diplômés venus représenter leur entreprise au...
URL:https://alumni.grenoble-em.com/en/event/afterwork-special-career-fair-2024-2-gem-alumni/2024/01/25/1007
BEGIN:VALARM
TRIGGER:-P0DT1H0M0S
ACTION:DISPLAY
END:VALARM
END:VEVENT
END:VCALENDAR