BEGIN:VCALENDAR
VERSION:2.0
PRODID:-//hacksw/handcal//NONSGML v1.0//EN
BEGIN:VEVENT
DTSTART:20240522T080000
DTEND:20240525T180000
LOCATION:Campus Paris \n183, Avenue Jean Lolive \n93500 PANTIN
ORGANIZER;CN=GEM Alumni TEAM:MAILTO:
SUMMARY:Devenez membre de jury PGE - jurys sur le campus de Paris
DESCRIPTION:Apportez votre vision de l’entreprise et prenez part à l’évaluation des candidats au concours d’entrée du Programme Grande Ecole. Découvrez cette opportunité unique et enrichissante et inscrivez-vous ...
URL:https://alumni.grenoble-em.com/en/event/devenez-membre-de-jury-pge-jurys-sur-le-campus-de-paris/2024/05/22/1036
BEGIN:VALARM
TRIGGER:-P0DT1H0M0S
ACTION:DISPLAY
END:VALARM
END:VEVENT
END:VCALENDAR