BEGIN:VCALENDAR
VERSION:2.0
PRODID:-//hacksw/handcal//NONSGML v1.0//EN
BEGIN:VEVENT
DTSTART:20260527T080000
DTEND:20260703T190000
LOCATION:Campus Grenoble \n12, Rue Pierre Semard \n38000 GRENOBLE
ORGANIZER;CN=GEM Alumni TEAM:MAILTO:
SUMMARY:Participez aux Jurys 2026 sur le campus de Grenoble et inspirez la nouvelle génération GEM !
DESCRIPTION:Du 27 mai au 3 juillet 2026, sur le campus de Grenoble, prenez part à une expérience humaine et professionnelle enrichissante en devenant membre de jury pour les épreuves d’admission du Programme...
URL:https://alumni.grenoble-em.com/en/event/participez-aux-jurys-2026-sur-le-campus-de-grenoble-et-inspirez-la-nouvelle-generation-gem/2026/05/27/1037
BEGIN:VALARM
TRIGGER:-P0DT1H0M0S
ACTION:DISPLAY
END:VALARM
END:VEVENT
END:VCALENDAR