BEGIN:VCALENDAR
VERSION:2.0
PRODID:-//hacksw/handcal//NONSGML v1.0//EN
BEGIN:VEVENT
DTSTART:20240523T133000
DTEND:20240523T163000
LOCATION:GEM Labs \n142, Avenue des Martyrs \n38000 GRENOBLE
ORGANIZER;CN=GEM Alumni TEAM:MAILTO:
SUMMARY:Atelier : La levée de fonds et le pitch animé par Elodie MAUREAU de Rainmakers
DESCRIPTION:IncubaGEM vous convie à un atelier sur la thématique de la levée de fonds, animé par Elodie Maureau, Consultante en levée de fonds / Impact Investing et ESG chez Rainmakers !\nL'atelier sera...
URL:https://alumni.grenoble-em.com/en/event/atelier-la-levee-de-fonds-et-le-pitch-anime-par-elodie-maureau-de-rainmakers/2024/05/23/1041
BEGIN:VALARM
TRIGGER:-P0DT1H0M0S
ACTION:DISPLAY
END:VALARM
END:VEVENT
END:VCALENDAR