BEGIN:VCALENDAR
VERSION:2.0
PRODID:-//hacksw/handcal//NONSGML v1.0//EN
BEGIN:VEVENT
DTSTART:20240618T150000
DTEND:20240618T190000
LOCATION:Campus GEM Sémard \n12 rue Pierre Sémard \n38000 Grenoble
ORGANIZER;CN=GEM Alumni TEAM - Sportifs de haut niveau:MAILTO:
SUMMARY:SHN - Rencontre Carrière GEM Alumni et Etudiants de l'Institut Sport et Management
DESCRIPTION:L'Institut Sport et Management organisera son séminaire annuel pour les étudiants Sportifs de Haut Niveau du 17 au 20 juin sur le Campus GEM Sémard.\nA cette occasion, l'après-midi du mardi 18 juin...
URL:https://alumni.grenoble-em.com/en/group/sportifs-de-haut-niveau/142/calendar/shn-rencontre-carriere-gem-alumni-et-etudiants-de-l-institut-sport-et-management/2024/06/18/1051
BEGIN:VALARM
TRIGGER:-P0DT1H0M0S
ACTION:DISPLAY
END:VALARM
END:VEVENT
END:VCALENDAR