BEGIN:VCALENDAR
VERSION:2.0
PRODID:-//hacksw/handcal//NONSGML v1.0//EN
BEGIN:VEVENT
DTSTART:20260305T080000
DTEND:20260603T190000
LOCATION:
ORGANIZER;CN=GEM Alumni TEAM:MAILTO:
SUMMARY:Participez aux Jurys 2026 en visioconférence et inspirez la nouvelle génération GEM !
DESCRIPTION:Du 5 mars mai au 3 juin 2026, en visioconférence (via Teams), prenez part à une expérience humaine et professionnelle enrichissante en devenant membre de jury pour les épreuves d’admission du...
URL:https://alumni.grenoble-em.com/en/event/participez-aux-jurys-2026-en-visioconference-et-inspirez-la-nouvelle-generation-gem/2026/03/05/1080
BEGIN:VALARM
TRIGGER:-P0DT1H0M0S
ACTION:DISPLAY
END:VALARM
END:VEVENT
END:VCALENDAR