BEGIN:VCALENDAR
VERSION:2.0
PRODID:-//hacksw/handcal//NONSGML v1.0//EN
BEGIN:VEVENT
DTSTART:20250318T180000
DTEND:20250318T220000
LOCATION:The Lighterman \n3 Granary Square \nN1C 4BH London
ORGANIZER;CN=Chahndra Dal Pont - MBA:MAILTO:chahndra.dal-pont@grenoble-em.com
SUMMARY:MBA LONDON mixer at The Lighterman at King's Cross
DESCRIPTION:Hello everyone!As promised, we are launching an event - MBA alumni mixer in London, and we have our date and location! If you are in town, please sign up- Would love to get you connected in...
URL:https://alumni.grenoble-em.com/en/group/mba/86/calendar/mba-london-mixer-at-the-lighterman-at-king-s-cross/2025/03/18/1085
BEGIN:VALARM
TRIGGER:-P0DT1H0M0S
ACTION:DISPLAY
END:VALARM
END:VEVENT
END:VCALENDAR