BEGIN:VCALENDAR
VERSION:2.0
PRODID:-//hacksw/handcal//NONSGML v1.0//EN
BEGIN:VEVENT
DTSTART:20250603T190000
DTEND:20250603T213000
LOCATION:Campus GEM Sémard  \n12 rue Pierre Sémard \n38000 Grenoble
ORGANIZER;CN=GEM Alumni TEAM - Grenoble:MAILTO:
SUMMARY:CONFERENCE : Management interculturel et intelligence artificielle
DESCRIPTION:Participez à cette conférence, en présentiel ou en ligne, organisée en partenariat avec les Alumni de Centrale Supeléc groupement Dauphiné - Savoie et les alumni de Sciences Po Paris en région AURA...
URL:https://alumni.grenoble-em.com/en/group/grenoble/78/calendar/conference-management-interculturel-et-intelligence-artificielle/2025/06/03/1104
BEGIN:VALARM
TRIGGER:-P0DT1H0M0S
ACTION:DISPLAY
END:VALARM
END:VEVENT
END:VCALENDAR