BEGIN:VCALENDAR
VERSION:2.0
PRODID:-//hacksw/handcal//NONSGML v1.0//EN
BEGIN:VEVENT
DTSTART:20250410T180000
DTEND:20250410T220000
LOCATION:Dock B \n1 Place de la Pointe \n93500 Pantin (Paris)
ORGANIZER;CN=Chahndra Dal Pont - MBA:MAILTO:chahndra.dal-pont@grenoble-em.com
SUMMARY:Paris GEM MBA mixer 2025
DESCRIPTION:Join us at Dock B in Pantin on Thursday, April 10th from 6pm !You will have an opportunity to also meet the current intake doing their Luxury specialization. This is a challenging time and therefore, ...
URL:https://alumni.grenoble-em.com/en/group/mba/86/calendar/paris-gem-mba-mixer-2025/2025/04/10/1114
BEGIN:VALARM
TRIGGER:-P0DT1H0M0S
ACTION:DISPLAY
END:VALARM
END:VEVENT
END:VCALENDAR