BEGIN:VCALENDAR
VERSION:2.0
PRODID:-//hacksw/handcal//NONSGML v1.0//EN
BEGIN:VEVENT
DTSTART:20250626T183000
DTEND:20250626T190000
LOCATION:Babel Beerhouse, Coal Drops Yard, London \n1 Lewis Cubitt Walk, London, GB  \nN1C 4DL LONDON
ORGANIZER;CN=Kévin Castel - London:MAILTO:castelkevin@gmail.com
SUMMARY:London afterwork - GEM Alumni in London - Get Together
DESCRIPTION:🎉 GEM Alumni Summer Meetup – London Edition! 🌞Let’s kick off the summer season together! Whether you're counting down to a well-earned summer break or just looking for a great evening out, join fellow...
URL:https://alumni.grenoble-em.com/en/group/london/74/calendar/london-afterwork-gem-alumni-in-london-get-together/2025/06/26/1122
BEGIN:VALARM
TRIGGER:-P0DT1H0M0S
ACTION:DISPLAY
END:VALARM
END:VEVENT
END:VCALENDAR