BEGIN:VCALENDAR
VERSION:2.0
PRODID:-//hacksw/handcal//NONSGML v1.0//EN
BEGIN:VEVENT
DTSTART:20260122T183000
DTEND:20260122T210000
LOCATION:No. 35 Mackenzie Walk \n29-35 MACKENZIE WALK, CANARY WHARF \nE14 4PH LONDON
ORGANIZER;CN=Chahndra Dal Pont - MBA:MAILTO:chahndra.dal-pont@grenoble-em.com
SUMMARY:London calling - the GEM MBA alumni! - opening to GEM Londoners!
DESCRIPTION:Join me Thursday Jan 22nd for an afterwork for a meet and greet with fellow GEM MBA alumni!A great opportunity to widen your network in the area - We had a lovely time when I came through last March...
URL:https://alumni.grenoble-em.com/en/group/mba/86/calendar/london-calling-the-gem-mba-alumni-opening-to-gem-londoners/2026/01/22/1146
BEGIN:VALARM
TRIGGER:-P0DT1H0M0S
ACTION:DISPLAY
END:VALARM
END:VEVENT
END:VCALENDAR