BEGIN:VCALENDAR
VERSION:2.0
PRODID:-//hacksw/handcal//NONSGML v1.0//EN
BEGIN:VEVENT
DTSTART:20260128T173000
DTEND:20260128T210000
LOCATION:Trib Café \n14 rue Pierre Smard \n38000 Grenoble
ORGANIZER;CN=GEM Alumni TEAM - Grenoble:MAILTO:
SUMMARY:Afterwork Grenoble
DESCRIPTION:\na { text-decoration: none; color: #464feb; }\ntr th, tr td { border: 1px solid #e6e6e6; }\ntr th { background-color: #f5f5f5; }\na { text-decoration: none; color: #464feb; }\ntr th, tr td { border: ...
URL:https://alumni.grenoble-em.com/en/group/grenoble/78/calendar/afterwork-grenoble/2026/01/28/1153
BEGIN:VALARM
TRIGGER:-P0DT1H0M0S
ACTION:DISPLAY
END:VALARM
END:VEVENT
END:VCALENDAR