BEGIN:VCALENDAR
VERSION:2.0
PRODID:-//hacksw/handcal//NONSGML v1.0//EN
BEGIN:VEVENT
DTSTART:20260323T170000
DTEND:20260323T190000
LOCATION:GEM Campus Sémard \n12 rue Pierre Sémard \n38000 Grenoble
ORGANIZER;CN=GEM Alumni TEAM:MAILTO:
SUMMARY:Table ronde : "Le chef de Projet du Futur : compétences, outils et leadership à l'ère des grandes transformations"
DESCRIPTION:Dans le cadre de la communauté de pratique PM@GEM, nous avons le plaisir de vous inviter à une table ronde consacrée au thème :\n« Le Chef de Projet du Futur : compétences, outils et leadership à...
URL:https://alumni.grenoble-em.com/en/event/table-ronde-le-chef-de-projet-du-futur-competences-outils-et-leadership-a-l-ere-des-grandes-transformations/2026/03/23/1158
BEGIN:VALARM
TRIGGER:-P0DT1H0M0S
ACTION:DISPLAY
END:VALARM
END:VEVENT
END:VCALENDAR