BEGIN:VCALENDAR
VERSION:2.0
PRODID:-//hacksw/handcal//NONSGML v1.0//EN
BEGIN:VEVENT
DTSTART:20260506T000000
DTEND:20260506T010000
LOCATION:Silo Bar, Amora Hotel \n11 Jamison st \nNSW 2000 Sydney
ORGANIZER;CN=Karine Pham:MAILTO:karine_pham@yahoo.fr
SUMMARY:European-Australia Business School Connections: Alumni Networking
DESCRIPTION:The next networking event will be with ESADE, AGSM and French Business School Alumni in Australia on Wednesday, 6th May from 5:30 pm at Silo Bar @ Amora Hotel, 11 Jamison St, Sydney.  
URL:https://alumni.grenoble-em.com/en/event/european-australia-business-school-connections-alumni-networking/2026/05/06/1163
BEGIN:VALARM
TRIGGER:-P0DT1H0M0S
ACTION:DISPLAY
END:VALARM
END:VEVENT
END:VCALENDAR