BEGIN:VCALENDAR
VERSION:2.0
PRODID:-//hacksw/handcal//NONSGML v1.0//EN
BEGIN:VEVENT
DTSTART:20260513T190000
DTEND:20260513T220000
LOCATION:TBC
ORGANIZER;CN=Chahndra Dal Pont - Madrid:MAILTO:chahndra.dal-pont@grenoble-em.com
SUMMARY:GEM Alumni Mixer in Madrid - May 13th
DESCRIPTION:Hello! Hola! Bonjour!It's been a while since something official has happened but would love to help re-launch a face-to-face mixer session for our GEM Alumni in Madrid!Oumou and I have been in touch...
URL:https://alumni.grenoble-em.com/en/group/madrid/71/calendar/gem-alumni-mixer-in-madrid-may-13th/2026/05/13/1168
BEGIN:VALARM
TRIGGER:-P0DT1H0M0S
ACTION:DISPLAY
END:VALARM
END:VEVENT
END:VCALENDAR