BEGIN:VCALENDAR
VERSION:2.0
PRODID:-//hacksw/handcal//NONSGML v1.0//EN
BEGIN:VEVENT
DTSTART:20170531T083000
DTEND:20170706T183000
LOCATION:
ORGANIZER;CN=GEM Alumni:MAILTO:
SUMMARY:Jurys d'entrée : sélectionnez les futurs étudiants de votre école
DESCRIPTION:Qui mieux que vous peut nous aider à convaincre les étudiants de rejoindre l'aventure GEM ? Du 31 mai au 6 juillet, apportez votre regard averti sur le potentiel des 5000 candidats au Programme Grande...
URL:https://alumni.grenoble-em.com/en/event/jurys-d-entree-selectionnez-les-futurs-etudiants-de-votre-ecole/2017/05/31/258
BEGIN:VALARM
TRIGGER:-P0DT1H0M0S
ACTION:DISPLAY
END:VALARM
END:VEVENT
END:VCALENDAR