BEGIN:VCALENDAR
VERSION:2.0
PRODID:-//hacksw/handcal//NONSGML v1.0//EN
BEGIN:VEVENT
DTSTART:20171106T104500
DTEND:20171108T000000
LOCATION:
ORGANIZER;CN=GEM Alumni:MAILTO:
SUMMARY:test kde 1
DESCRIPTION:
URL:https://alumni.grenoble-em.com/en/event/test-kde-1/2017/11/06/335
BEGIN:VALARM
TRIGGER:-P0DT1H0M0S
ACTION:DISPLAY
END:VALARM
END:VEVENT
END:VCALENDAR