BEGIN:VCALENDAR
VERSION:2.0
PRODID:-//hacksw/handcal//NONSGML v1.0//EN
BEGIN:VEVENT
DTSTART:20180130T183000
DTEND:20180130T210000
LOCATION:
ORGANIZER;CN=GEM Alumni:MAILTO:
SUMMARY:Genève GEM alumni - Conference : Intelligence Artificielle
DESCRIPTION:The artificial intelligence in the company, between myth and reality....\nThe artificial intelligence in the company, between myth and reality....L'équipe GEM Alumni vous propose une conférence suivie...
URL:https://alumni.grenoble-em.com/en/event/geneve-gem-alumni-conference-intelligence-artificielle/2018/01/30/347
BEGIN:VALARM
TRIGGER:-P0DT1H0M0S
ACTION:DISPLAY
END:VALARM
END:VEVENT
END:VCALENDAR