BEGIN:VCALENDAR
VERSION:2.0
PRODID:-//hacksw/handcal//NONSGML v1.0//EN
BEGIN:VEVENT
DTSTART:20210211T130000
DTEND:20210211T140000
LOCATION:https://grenoble-em.zoom.us/j/99866224734?pwd=LzMxYnRocDhqeXFPK1daUVZ1UnhBQT09
ORGANIZER;CN=Eline Graille:MAILTO:eline.graille@grenoble-em.com
SUMMARY:Webinaire : Projections incertaines, missions bousculées, "nouvelle normalité" : Comment surfer sur la vague de la transition actuelle et non la subir? - GEM Alumni CareerLab
DESCRIPTION:Assistez au second webinaire du GEM Alumni CareerLab, le 11 Février 2021 à 13h00."Pausez-vous" le temps d'analyser l'impact de cette crise sur votre quotidien.\nProjections incertaines, missions...
URL:https://alumni.grenoble-em.com/en/event/webinaire-projections-incertaines-missions-bousculees-nouvelle-normalite-comment-surfer-sur-la-vague-de-la-transition-actuelle-et-non-la-subir-gem-alumni-careerlab/2021/02/11/715
BEGIN:VALARM
TRIGGER:-P0DT1H0M0S
ACTION:DISPLAY
END:VALARM
END:VEVENT
END:VCALENDAR