BEGIN:VCALENDAR
VERSION:2.0
PRODID:-//hacksw/handcal//NONSGML v1.0//EN
BEGIN:VEVENT
DTSTART:20210208T090000
DTEND:20210208T120000
LOCATION:
ORGANIZER;CN=Eline Graille:MAILTO:eline.graille@grenoble-em.com
SUMMARY:GEM Alumni CareerLab : February 8th Permanence - Camille Amos Lardan
DESCRIPTION:The permanences, allow our Coaches to meet you and orientate you according to your Career problematic. This is an important first contact in order to determine the necessary follow-up. \nDuring the...
URL:https://alumni.grenoble-em.com/en/event/gem-alumni-careerlab-february-8th-permanence-camille-amos-lardan/2021/02/08/716
BEGIN:VALARM
TRIGGER:-P0DT1H0M0S
ACTION:DISPLAY
END:VALARM
END:VEVENT
END:VCALENDAR