BEGIN:VCALENDAR
VERSION:2.0
PRODID:-//hacksw/handcal//NONSGML v1.0//EN
BEGIN:VEVENT
DTSTART:20211020T120000
DTEND:20211020T151500
LOCATION:
ORGANIZER;CN=GEM Alumni TEAM:MAILTO:
SUMMARY:October 20th Permanence - Meet our coach - Move the Lines - GEM Alumni CareerLab
DESCRIPTION:The permanences, allow our Coach to meet you and orientate you according to your Career problematic. This is an important first contact in order to determine the necessary follow-up. \nDuring the...
URL:https://alumni.grenoble-em.com/en/event/october-20th-permanence-meet-our-coach-move-the-lines-gem-alumni-careerlab/2021/10/20/787
BEGIN:VALARM
TRIGGER:-P0DT1H0M0S
ACTION:DISPLAY
END:VALARM
END:VEVENT
END:VCALENDAR