BEGIN:VCALENDAR
VERSION:2.0
PRODID:-//hacksw/handcal//NONSGML v1.0//EN
BEGIN:VEVENT
DTSTART:20211117T113000
DTEND:20211117T144500
LOCATION:
ORGANIZER;CN=GEM Alumni TEAM:MAILTO:
SUMMARY:November 17th Permanence - Meet our coach - Move the Lines - GEM Alumni CareerLab
DESCRIPTION:The permanences, allow our Coaches to meet you and orientate you according to your Career problematic. This is an important first contact in order to determine the necessary follow-up. \nDuring the...
URL:https://alumni.grenoble-em.com/en/event/november-17th-permanence-meet-our-coach-move-the-lines-gem-alumni-careerlab/2021/11/17/788
BEGIN:VALARM
TRIGGER:-P0DT1H0M0S
ACTION:DISPLAY
END:VALARM
END:VEVENT
END:VCALENDAR