BEGIN:VCALENDAR
VERSION:2.0
PRODID:-//hacksw/handcal//NONSGML v1.0//EN
BEGIN:VEVENT
DTSTART:20211015T100000
DTEND:20211015T140000
LOCATION:
ORGANIZER;CN=GEM Alumni TEAM:MAILTO:
SUMMARY:15th October Permanence - Talent Move - GEM Alumni CareerLab
DESCRIPTION:The permanences, allow our Coaches to meet you and orientate you according to your Career problematic. This is an important first contact in order to determine the necessary follow-up. \nDuring the...
URL:https://alumni.grenoble-em.com/en/event/15th-october-permanence-talent-move-gem-alumni-careerlab/2021/10/15/790
BEGIN:VALARM
TRIGGER:-P0DT1H0M0S
ACTION:DISPLAY
END:VALARM
END:VEVENT
END:VCALENDAR