BEGIN:VCALENDAR
VERSION:2.0
PRODID:-//hacksw/handcal//NONSGML v1.0//EN
BEGIN:VEVENT
DTSTART:20230908T183000
DTEND:20230908T210000
LOCATION:Le Jardin  \n29, Rue Pierre Semard \n38000 GRENOBLE
ORGANIZER;CN=Lisa Jane Perraud:MAILTO:lisa-jane.perraud@grenoble-em.com
SUMMARY:GEM  MSc MIB/BD/ISE  Alumni & Student Induction Week Cocktail
DESCRIPTION:Are you passionate about your career in business development, innovation, or entrepreneurship? Come and inspire our current GEM MSc MIB, BD & ISE students.  This event will be part of the induction...
URL:https://alumni.grenoble-em.com/en/event/gem-msc-mib-bd-ise-alumni-student-induction-week-cocktail/2023/09/08/978
BEGIN:VALARM
TRIGGER:-P0DT1H0M0S
ACTION:DISPLAY
END:VALARM
END:VEVENT
END:VCALENDAR