BEGIN:VCALENDAR
VERSION:2.0
PRODID:-//hacksw/handcal//NONSGML v1.0//EN
BEGIN:VEVENT
DTSTART:20240124T173000
DTEND:20240124T193000
LOCATION:Trib café \n14 rue Pierre Sémard \n38000 GRENOBLE
ORGANIZER;CN=GEM Alumni TEAM:MAILTO:
SUMMARY:Afterwork spécial Career Fair 2024 #1 - GEM Alumni
DESCRIPTION:Rencontrez les autres diplômés présents au Career Fair dans un cadre convivial en mode afterwork, histoire de décompresser après votre journée !\nPour les diplômés venus représenter leur entreprise au...
URL:https://alumni.grenoble-em.com/fr/event/afterwork-special-career-fair-2024-1-gem-alumni/2024/01/24/1006
BEGIN:VALARM
TRIGGER:-P0DT1H0M0S
ACTION:DISPLAY
END:VALARM
END:VEVENT
END:VCALENDAR