BEGIN:VCALENDAR
VERSION:2.0
PRODID:-//hacksw/handcal//NONSGML v1.0//EN
BEGIN:VEVENT
DTSTART:20240515T080000
DTEND:20240517T180000
LOCATION:
ORGANIZER;CN=GEM Alumni TEAM:MAILTO:
SUMMARY:Devenez membre de jury PGE - jurys en visioconférence
DESCRIPTION:Apportez votre vision de l’entreprise et prenez part à l’évaluation des candidats au concours d’entrée du Programme Grande Ecole. Découvrez cette opportunité unique et enrichissante et inscrivez-vous ...
URL:https://alumni.grenoble-em.com/fr/event/devenez-membre-de-jury-pge-jurys-en-visioconference/2024/05/15/1035
BEGIN:VALARM
TRIGGER:-P0DT1H0M0S
ACTION:DISPLAY
END:VALARM
END:VEVENT
END:VCALENDAR