BEGIN:VCALENDAR
VERSION:2.0
PRODID:-//hacksw/handcal//NONSGML v1.0//EN
BEGIN:VEVENT
DTSTART:20260519T080000
DTEND:20260522T190000
LOCATION:Campus Paris \n183, Avenue Jean Lolive \n93500 PANTIN
ORGANIZER;CN=GEM Alumni TEAM:MAILTO:
SUMMARY:Participez aux Jurys 2026 sur le campus de Paris et inspirez la nouvelle génération GEM !
DESCRIPTION:Du 19 au 22 mai 2026, sur le campus de Paris, prenez part à une expérience humaine et professionnelle enrichissante en devenant membre de jury pour les épreuves d’admission du Programme Grande...
URL:https://alumni.grenoble-em.com/fr/event/participez-aux-jurys-2026-sur-le-campus-de-paris-et-inspirez-la-nouvelle-generation-gem/2026/05/19/1038
BEGIN:VALARM
TRIGGER:-P0DT1H0M0S
ACTION:DISPLAY
END:VALARM
END:VEVENT
END:VCALENDAR