BEGIN:VCALENDAR
VERSION:2.0
PRODID:-//hacksw/handcal//NONSGML v1.0//EN
BEGIN:VEVENT
DTSTART:20240326T190000
DTEND:20240326T223000
LOCATION:GEM Campus Pantin  \n183, Avenue Jean Lolive \n93500 PANTIN
ORGANIZER;CN=Julia CASTEL - GEM Junior Conseil:MAILTO:julia.castel@grenoble-em.com
SUMMARY:Anniversaire : 40 ans de la Junior Entreprise - GEM Campus Pantin
DESCRIPTION:De 1984 à 2024 - Quarante années d’Histoire seront fêtées le 26 mars 2024 au Campus GEM PARIS à Pantin !\nC’est avec un immense plaisir que nous vous invitons à célébrer les 40 ans de la Junior...
URL:https://alumni.grenoble-em.com/fr/group/gem-junior-conseil/133/calendar/anniversaire-40-ans-de-la-junior-entreprise-gem-campus-pantin/2024/03/26/1039
BEGIN:VALARM
TRIGGER:-P0DT1H0M0S
ACTION:DISPLAY
END:VALARM
END:VEVENT
END:VCALENDAR