BEGIN:VCALENDAR
VERSION:2.0
PRODID:-//hacksw/handcal//NONSGML v1.0//EN
BEGIN:VEVENT
DTSTART:20250114T180000
DTEND:20250114T203000
LOCATION:GEM Campus - Pantin \n183 avenue Jean Lolive \n93500 Pantin
ORGANIZER;CN=GEM Alumni TEAM:MAILTO:
SUMMARY:EAGLE 2030 - Soirée de présentation du nouveau plan stratégique - Campus GEM Pantin & Online
DESCRIPTION:Les inscriptions sont closes - n'hésitez pas à contacter l'équipe GEM Alumni Relations : alumni@grenoble-em.com \nLors d'une soirée exceptionnelle sur le campus GEM Pantin, retransmise en direct en...
URL:https://alumni.grenoble-em.com/fr/event/eagle-2030-soiree-de-presentation-du-nouveau-plan-strategique-campus-gem-pantin-online/2025/01/14/1083
BEGIN:VALARM
TRIGGER:-P0DT1H0M0S
ACTION:DISPLAY
END:VALARM
END:VEVENT
END:VCALENDAR