BEGIN:VCALENDAR
VERSION:2.0
PRODID:-//hacksw/handcal//NONSGML v1.0//EN
BEGIN:VEVENT
DTSTART:20250206T130000
DTEND:20250206T140000
LOCATION:https://grenoble-em.zoom.us/j/97232273314
ORGANIZER;CN=GEM Alumni TEAM:MAILTO:
SUMMARY:Découvrez l'Executive Education de GEM - Votre partenaire pour transformer les organisations
DESCRIPTION:Vous avez déjà franchi les portes de notre école, mais savez-vous comment GEM Executive Education accompagne aujourd’hui les entreprises et les talents dans leurs transformations stratégiques...
URL:https://alumni.grenoble-em.com/fr/event/decouvrez-l-executive-education-de-gem-votre-partenaire-pour-transformer-les-organisations/2025/02/06/1088
BEGIN:VALARM
TRIGGER:-P0DT1H0M0S
ACTION:DISPLAY
END:VALARM
END:VEVENT
END:VCALENDAR