BEGIN:VCALENDAR
VERSION:2.0
PRODID:-//hacksw/handcal//NONSGML v1.0//EN
BEGIN:VEVENT
DTSTART:20250205T090000
DTEND:20250206T190000
LOCATION:Alpexpo \n2 avenue d'Innsbruck \n38100 GRENOBLE
ORGANIZER;CN=GEM Alumni TEAM:MAILTO:
SUMMARY:INVITATION : Festival tech&fest 2025 - Alpexpo Grenoble
DESCRIPTION:tech&fest, le festival qui célèbre le meilleur de l’innovation, aura lieu les 5 &6 février 2025 à Alpexpo, Grenoble. Pour sa deuxième édition, le fil rouge est « le sens de la tech ».\nEn tant que...
URL:https://alumni.grenoble-em.com/fr/event/invitation-festival-tech-fest-2025-alpexpo-grenoble/2025/02/05/1094
BEGIN:VALARM
TRIGGER:-P0DT1H0M0S
ACTION:DISPLAY
END:VALARM
END:VEVENT
END:VCALENDAR