BEGIN:VCALENDAR
VERSION:2.0
PRODID:-//hacksw/handcal//NONSGML v1.0//EN
BEGIN:VEVENT
DTSTART:20250312T184500
DTEND:20250312T220000
LOCATION:El Colmado  \nAlexanderplatz Rathausstraße 13
ORGANIZER;CN=Chahndra Dal Pont - MBA:MAILTO:chahndra.dal-pont@grenoble-em.com
SUMMARY:Berlin GEM MBA mixer 2025! Change of date to Wed 12th!!!
DESCRIPTION:Hello my Berliners!Just a note - we have the same place but moved to Wednesday evening due to a company visit reschedule. Sorry for that! Please share!So excited to be coming again - really an amazing...
URL:https://alumni.grenoble-em.com/fr/group/mba/86/calendar/berlin-gem-mba-mixer-2025-change-of-date-to-wed-12th/2025/03/12/1098
BEGIN:VALARM
TRIGGER:-P0DT1H0M0S
ACTION:DISPLAY
END:VALARM
END:VEVENT
END:VCALENDAR