BEGIN:VCALENDAR
VERSION:2.0
PRODID:-//hacksw/handcal//NONSGML v1.0//EN
BEGIN:VEVENT
DTSTART:20250403T184500
DTEND:20250403T220000
LOCATION:GEM Campus - Pantin \n183 Av. Jean Lolive \n93500 Pantin
ORGANIZER;CN=Yoan Le Bohec - Impact:MAILTO:yoan.le-bohec@grenoble-em.com
SUMMARY:Afterwork - ImpAct Alumni Paris - 2025
DESCRIPTION:✨ Retrouvailles, bonne ambiance et networking : le rendez-vous à ne pas manquer ! ✨\nNous sommes ravis de vous inviter à un événement unique : la toute première édition d’un afterwork exclusivement...
URL:https://alumni.grenoble-em.com/fr/group/impact/134/calendar/afterwork-impact-alumni-paris-2025/2025/04/03/1106
BEGIN:VALARM
TRIGGER:-P0DT1H0M0S
ACTION:DISPLAY
END:VALARM
END:VEVENT
END:VCALENDAR