BEGIN:VCALENDAR
VERSION:2.0
PRODID:-//hacksw/handcal//NONSGML v1.0//EN
BEGIN:VEVENT
DTSTART:20260205T183000
DTEND:20260205T200000
LOCATION:The Chesterfield Arms   \n50 Hertford Street \nW1J 7SS MAYFAIR, LONDON
ORGANIZER;CN=Kévin Castel - London:MAILTO:castelkevin@gmail.com
SUMMARY:London afterwork - GEM Alumni in London - Get Together
DESCRIPTION:Dear GEM Alumni,We’re excited to kick off 2026 with our first alumni gathering of the year — right here in London! 🎉Join us for an evening of networking, connection, and inspiration as we celebrate...
URL:https://alumni.grenoble-em.com/fr/group/london/74/calendar/london-afterwork-gem-alumni-in-london-get-together/2026/02/05/1151
BEGIN:VALARM
TRIGGER:-P0DT1H0M0S
ACTION:DISPLAY
END:VALARM
END:VEVENT
END:VCALENDAR