BEGIN:VCALENDAR
VERSION:2.0
PRODID:-//hacksw/handcal//NONSGML v1.0//EN
BEGIN:VEVENT
DTSTART:20260602T183000
DTEND:20260602T210000
LOCATION:TBD
ORGANIZER;CN=Lisa Jane Perraud:MAILTO:lisa-jane.perraud@grenoble-em.com
SUMMARY:GEM Alumni and Students gathering in Stockholm on June 2nd
DESCRIPTION:We’re a group of MS in Purchasing Performance and Strategy Management students from GEM, and this June 2026 we’ll be in your city as part of our International Business Trip. We’d love the opportunity ...
URL:https://alumni.grenoble-em.com/fr/event/gem-alumni-and-students-gathering-in-stockholm-on-june-2nd/2026/06/02/1166
BEGIN:VALARM
TRIGGER:-P0DT1H0M0S
ACTION:DISPLAY
END:VALARM
END:VEVENT
END:VCALENDAR