BEGIN:VCALENDAR
VERSION:2.0
PRODID:-//hacksw/handcal//NONSGML v1.0//EN
BEGIN:VEVENT
DTSTART:20260513T190000
DTEND:20260513T220000
LOCATION:TBC
ORGANIZER;CN=Chahndra Dal Pont - Madrid:MAILTO:chahndra.dal-pont@grenoble-em.com
SUMMARY:Afterwork GEM Alumni à Madrid le 13 mai
DESCRIPTION:Hello ! Hola ! Bonjour !Cela fait un moment qu'il ne s'est rien passé de officiel, mais j'aimerais beaucoup contribuer à relancer une rencontre informelle en présentiel pour nos anciens élèves de la...
URL:https://alumni.grenoble-em.com/fr/group/madrid/71/calendar/afterwork-gem-alumni-a-madrid-le-13-mai/2026/05/13/1168
BEGIN:VALARM
TRIGGER:-P0DT1H0M0S
ACTION:DISPLAY
END:VALARM
END:VEVENT
END:VCALENDAR