BEGIN:VCALENDAR
VERSION:2.0
PRODID:-//hacksw/handcal//NONSGML v1.0//EN
BEGIN:VEVENT
DTSTART:20160926T183000
DTEND:20160926T203000
LOCATION:
ORGANIZER;CN=GEM Alumni:MAILTO:
SUMMARY:Paris, G9+ Groupe Prospective : L'automobile numérique connectée - Qui émergera et qui survivra ?
DESCRIPTION:Depuis l’entrée de l’automobile dans l’ère de la grande série, il y a plus de 100 ans, ce secteur n’avait pas connu jusqu’alors de transformations aussi radicales. Depuis l’introduction du numérique, ...
URL:https://alumni.grenoble-em.com/fr/event/paris-g9-groupe-prospective-l-automobile-numerique-connectee-qui-emergera-et-qui-survivra/2016/09/26/170
BEGIN:VALARM
TRIGGER:-P0DT1H0M0S
ACTION:DISPLAY
END:VALARM
END:VEVENT
END:VCALENDAR