BEGIN:VCALENDAR
VERSION:2.0
PRODID:-//hacksw/handcal//NONSGML v1.0//EN
BEGIN:VEVENT
DTSTART:20161129T180000
DTEND:20161129T213000
LOCATION:
ORGANIZER;CN=GEM Alumni:MAILTO:
SUMMARY:Paris - G9+ Luxe & Digital : réinventer les standards de l'expérience
DESCRIPTION:L’édition 2016 du cycle Women & digital de l’Institut G9+, en partenariat avec Microsoft, Le Salon du Luxe et Science Paristech au Féminin (SPEF), aborde la problématique de l'Industrie du luxe face...
URL:https://alumni.grenoble-em.com/fr/event/paris-g9-luxe-digital-reinventer-les-standards-de-l-experience/2016/11/29/209
BEGIN:VALARM
TRIGGER:-P0DT1H0M0S
ACTION:DISPLAY
END:VALARM
END:VEVENT
END:VCALENDAR