BEGIN:VCALENDAR
VERSION:2.0
PRODID:-//hacksw/handcal//NONSGML v1.0//EN
BEGIN:VEVENT
DTSTART:20180130T183000
DTEND:20180130T210000
LOCATION:
ORGANIZER;CN=GEM Alumni:MAILTO:
SUMMARY:Genève - GEM Alumni in "Conference Intelligence artificielle"
DESCRIPTION:L’intelligence artificielle dans l'entreprise, entre mythe et réalité....\nL’intelligence artificielle dans l'entreprise, entre mythe et réalité....L'équipe GEM Alumni vous propose une conférence...
URL:https://alumni.grenoble-em.com/fr/event/geneve-gem-alumni-in-conference-intelligence-artificielle/2018/01/30/347
BEGIN:VALARM
TRIGGER:-P0DT1H0M0S
ACTION:DISPLAY
END:VALARM
END:VEVENT
END:VCALENDAR