BEGIN:VCALENDAR
VERSION:2.0
PRODID:-//hacksw/handcal//NONSGML v1.0//EN
BEGIN:VEVENT
DTSTART:20181009T120000
DTEND:20181009T140000
LOCATION:
ORGANIZER;CN=GEM Alumni:MAILTO:
SUMMARY:Grenoble Pause Déjeuner Get Together
DESCRIPTION:Les déjeuners GEM Alumni vont transformer votre pause déjeuner en un temps de réseautage convivial !\n Les déjeuners GEM Alumni vont transformer votre pause déjeuner en un temps de réseautage...
URL:https://alumni.grenoble-em.com/fr/event/grenoble-pause-dejeuner-get-together/2018/10/09/454
BEGIN:VALARM
TRIGGER:-P0DT1H0M0S
ACTION:DISPLAY
END:VALARM
END:VEVENT
END:VCALENDAR