BEGIN:VCALENDAR
VERSION:2.0
PRODID:-//hacksw/handcal//NONSGML v1.0//EN
BEGIN:VEVENT
DTSTART:20160108T180000
DTEND:20160108T210000
LOCATION:
ORGANIZER;CN=GEM Alumni:MAILTO:
SUMMARY:AMBA Students and Alumni Networking Evening (free)
DESCRIPTION:AMBA organizes a networking reception in Paris on January 8th, 2016.\nAMBA organizes a networking reception in Paris on January 8th, 2016.This networking reception is for current MBA students and MBA ...
URL:https://alumni.grenoble-em.com/fr/event/amba-students-and-alumni-networking-evening-free/2016/01/08/64
BEGIN:VALARM
TRIGGER:-P0DT1H0M0S
ACTION:DISPLAY
END:VALARM
END:VEVENT
END:VCALENDAR