BEGIN:VCALENDAR
VERSION:2.0
PRODID:-//hacksw/handcal//NONSGML v1.0//EN
BEGIN:VEVENT
DTSTART:20210222T090000
DTEND:20210222T120000
LOCATION:
ORGANIZER;CN=Eline Graille:MAILTO:eline.graille@grenoble-em.com
SUMMARY:GEM Alumni CareerLab - Permanences le 22 Février 2021 - Talent Move
DESCRIPTION:Les permanences, permettent à nos Coachs de vous rencontrer et vous orienté en fonction de votre problématique Carrière. Il s'agit d'un premier contact important afin de déterminer le suivi...
URL:https://alumni.grenoble-em.com/fr/event/gem-alumni-careerlab-permanences-le-22-fevrier-2021-talent-move/2021/02/22/717
BEGIN:VALARM
TRIGGER:-P0DT1H0M0S
ACTION:DISPLAY
END:VALARM
END:VEVENT
END:VCALENDAR