BEGIN:VCALENDAR
VERSION:2.0
PRODID:-//hacksw/handcal//NONSGML v1.0//EN
BEGIN:VEVENT
DTSTART:20151210T000000
DTEND:20151211T000000
LOCATION:
ORGANIZER;CN=GEM Alumni:MAILTO:
SUMMARY:Test - Alumni FR
DESCRIPTION:
URL:https://alumni.grenoble-em.com/fr/event/test-alumni-fr/2015/12/10/72
BEGIN:VALARM
TRIGGER:-P0DT1H0M0S
ACTION:DISPLAY
END:VALARM
END:VEVENT
END:VCALENDAR