BEGIN:VCALENDAR
VERSION:2.0
PRODID:-//hacksw/handcal//NONSGML v1.0//EN
BEGIN:VEVENT
DTSTART:20211020T120000
DTEND:20211020T151500
LOCATION:
ORGANIZER;CN=GEM Alumni TEAM:MAILTO:
SUMMARY:Permanence du 20 Octobre 2021 - Move the Lines - GEM Alumni CareerLab
DESCRIPTION:Les permanences permettent à notre coach de vous rencontrer et vous orienter en fonction de votre problématique carrière. Il s'agit d'un premier contact important afin de déterminer le suivi...
URL:https://alumni.grenoble-em.com/fr/event/permanence-du-20-octobre-2021-move-the-lines-gem-alumni-careerlab/2021/10/20/787
BEGIN:VALARM
TRIGGER:-P0DT1H0M0S
ACTION:DISPLAY
END:VALARM
END:VEVENT
END:VCALENDAR