BEGIN:VCALENDAR
VERSION:2.0
PRODID:-//hacksw/handcal//NONSGML v1.0//EN
BEGIN:VEVENT
DTSTART:20211117T113000
DTEND:20211117T144500
LOCATION:
ORGANIZER;CN=GEM Alumni TEAM:MAILTO:
SUMMARY:Permanence du 17 Novembre 2021 - Move the Lines - GEM Alumni CareerLab
DESCRIPTION:Les permanences permettent à notre coach de vous rencontrer et vous orienter en fonction de votre problématique carrière. Il s'agit d'un premier contact important afin de déterminer le suivi...
URL:https://alumni.grenoble-em.com/fr/event/permanence-du-17-novembre-2021-move-the-lines-gem-alumni-careerlab/2021/11/17/788
BEGIN:VALARM
TRIGGER:-P0DT1H0M0S
ACTION:DISPLAY
END:VALARM
END:VEVENT
END:VCALENDAR