BEGIN:VCALENDAR
VERSION:2.0
PRODID:-//hacksw/handcal//NONSGML v1.0//EN
BEGIN:VEVENT
DTSTART:20211015T100000
DTEND:20211015T140000
LOCATION:
ORGANIZER;CN=GEM Alumni TEAM:MAILTO:
SUMMARY:Permanence du  15 Octobre - Talent Move - GEM Alumni CareerLab
DESCRIPTION:Les permanences permettent à nos Coachs de vous rencontrer et vous orienter en fonction de votre problématique carrière. Il s'agit d'un premier contact important afin de déterminer le suivi...
URL:https://alumni.grenoble-em.com/fr/event/permanence-du-15-octobre-talent-move-gem-alumni-careerlab/2021/10/15/790
BEGIN:VALARM
TRIGGER:-P0DT1H0M0S
ACTION:DISPLAY
END:VALARM
END:VEVENT
END:VCALENDAR