BEGIN:VCALENDAR
VERSION:2.0
PRODID:-//hacksw/handcal//NONSGML v1.0//EN
BEGIN:VEVENT
DTSTART:20220908T190000
DTEND:20220908T210000
LOCATION:Brasserie Neptune \n6 Rue Bressieux \n38000 Grenoble
ORGANIZER;CN=GEM Alumni TEAM:MAILTO:
SUMMARY:GEM  MSc BD/ISE  Alumni & Student 2022 Induction Week Cocktail
DESCRIPTION:Are you passionate about your career in business development, innovation, or entrepreneurship? Come and inspire our current GEM MSc BD & ISE students.  This event will be part of the induction week...
URL:https://alumni.grenoble-em.com/fr/event/gem-msc-bd-ise-alumni-student-2022-induction-week-cocktail/2022/09/08/888
BEGIN:VALARM
TRIGGER:-P0DT1H0M0S
ACTION:DISPLAY
END:VALARM
END:VEVENT
END:VCALENDAR