BEGIN:VCALENDAR
VERSION:2.0
PRODID:-//hacksw/handcal//NONSGML v1.0//EN
BEGIN:VEVENT
DTSTART:20230404T090000
DTEND:20230913T170000
LOCATION:Grenoble école de management \n12 rue Pierre Sémard \n38000 Grenoble
ORGANIZER;CN=GEM Alumni TEAM:MAILTO:
SUMMARY:Devenez membre aux Jurys d'entrée ou de sortie du PGE à GEM
DESCRIPTION:Venez développer votre réseau et apporter votre regard de professionnel sur nos étudiants et futurs diplômés ! Vivez une expérience de partage, valorisante et enrichissante.  \nChaque année, 800...
URL:https://alumni.grenoble-em.com/fr/event/devenez-membre-aux-jurys-d-entree-ou-de-sortie-du-pge-a-gem/2023/04/04/919
BEGIN:VALARM
TRIGGER:-P0DT1H0M0S
ACTION:DISPLAY
END:VALARM
END:VEVENT
END:VCALENDAR