BEGIN:VCALENDAR
VERSION:2.0
PRODID:-//hacksw/handcal//NONSGML v1.0//EN
BEGIN:VEVENT
DTSTART:20230613T180000
DTEND:20230613T200000
LOCATION:Grenoble école de management \n12, rue Pierre Sémard \n38000 Grenobe
ORGANIZER;CN=GEM Alumni TEAM:MAILTO:
SUMMARY:Peuples autochtones & Luttes existentielles face aux multinationales
DESCRIPTION:Dialogue avec le shaman guarani Mbya Tupa Nunes et l’artiste engagée Delphine Fabbri-Lawson.\nEvénement gratuit en présentiel ou en ligne sur inscription.\nNous discuterons du rôle des multinationales...
URL:https://alumni.grenoble-em.com/fr/event/peuples-autochtones-luttes-existentielles-face-aux-multinationales/2023/06/13/975
BEGIN:VALARM
TRIGGER:-P0DT1H0M0S
ACTION:DISPLAY
END:VALARM
END:VEVENT
END:VCALENDAR