BEGIN:VCALENDAR
VERSION:2.0
PRODID:-//hacksw/handcal//NONSGML v1.0//EN
BEGIN:VEVENT
DTSTART:20231018T190000
DTEND:20231018T210000
LOCATION:Le Bar Fondamental - L.B.F. - Bordeaux \n9 Rue du Chai des Farines \n33000 Bordeaux
ORGANIZER;CN=Emanuel Del Monte - Bordeaux:MAILTO:emanueldelmonte@yahoo.com.ar
SUMMARY:Afterwork - Bordeaux
DESCRIPTION:C'est la rentrée !Les équipes de GEM entament un Tour de France des prépas, et des communautés de diplômés.La première étape aura lieu à Bordeaux, le 18 Octobre.Nous vous attendons nombreux pour...
URL:https://alumni.grenoble-em.com/fr/group/bordeaux/23/calendar/afterwork-bordeaux/2023/10/18/992
BEGIN:VALARM
TRIGGER:-P0DT1H0M0S
ACTION:DISPLAY
END:VALARM
END:VEVENT
END:VCALENDAR